BEGIN:VCALENDAR
VERSION:2.0
PRODID:-//wp-events-plugin.com//7.2.3.1//EN
BEGIN:VEVENT
UID:58@team-nadia.jp
DTSTART:20150717T140000Z
DTEND:20150720T110000Z
DTSTAMP:20150608T072305Z
URL:https://team-nadia.jp/events/july-17-20-ishinomaki-volunteering/
SUMMARY:July 17-20 Ishinomaki Volunteering
DESCRIPTION:日本語版\n\nSee here for the activities\n\nImportant!!\n- C
 heck your volunteer insurance\n- The volunteer insurance is valid from Apr
 il 1 until March 31\, no matter when it was issued\n- nadia can organize t
 he insurance for you (see form below)\n- Otherwise check here http://www.f
 ukushihoken.co.jp/\n\nDates:\nVolunteering work time\n- July 18 (Sat) 8:30
  to 16:00\n- July 19 (Sun) 8:30 to 16:00\n\nTransportation:\n- nadia will 
 arrange a bus to Ishinomaki if enough volunteers join\n- You can also join
  the trip by other means of transportation\n\nAccommodation:\n- nadia prov
 ides accommodation (For PLAN 1 &amp\; 2 participants only)\n- Style: Gener
 ally Japanese Style (futon mats are provided in shared rooms\, but no futo
 n cover\, nor blanket\, bring your own sleeping bag as well as futon sheet
 s )\n\nParticipation PLANS (Please select one)\n- PLAN 1: nadia Bus + nadi
 a Accommodation\n* Cost: 10\,000 JPY/person\nIncludes: transportation by b
 us\, 2 nights accommodation\, 2 lunches (Breakfast &amp\; dinner are not 
 included)\, onsen on Saturday and Sunday evening\, and all the tools neede
 d to work\n* Departure: From Shinjuku on Friday @ 23:00\n* Arrival in Ishi
 nomaki: on Saturday @ 8:00AM\n* Departure from Ishinomaki: on Monday @ 9:0
 0\n* Arrival in Tokyo: Monday afternoon (depending on traffic condition).\
 n\n- PLAN 2: nadia Accommodation ONLY\n* Cost: 5\,000 JPY/person\nIncludes
 : 2 nights accommodation\, 2 lunches (Breakfast &amp\; dinner are not inc
 luded)\, Onsen on Saturday and Sunday evening\, and all the tools needed t
 o work\n* Transportation: please manage your own transportation between To
 kyo and Ishinomaki\, nadia Headquarter on Saturday morning\, transportatio
 n to Onsen on Saturday and Sunday night and for transportation from Ishino
 maki back home. If we have extra seats in the bus\, we can take you betwee
 n onsen and nadia Headquarter.\n* Meeting point: at nadia Headquarter for 
 work at 8:30 AM on Saturday morning (details to be provided after registra
 tion).\n\n- PLAN 3: nadia Work ONLY\n* Cost: 2\,500 JPY/person\nIncludes: 
 use of tools and 2 lunches.\n* Accommodation: You must secure your own acc
 ommodation in advance. Beware that most hotels and Ryokans are fully occup
 ied by working groups. nadia will not be able to provide information on lo
 cal accommodation. It is not possible to camp near the Minato-sho shelter.
 \n* Transportation: please manage your own transportation between Tokyo an
 d Ishinomaki\,\n* Meeting point: nadia Headquarter in Ishinomaki for work 
 at 8:30 AM on Saturday morning (details to be provided after registration)
 .\n\nInsurance:\n- Volunteering insurance is MANDATORY to participate in n
 adia activities. Please refer to our blog for information on how to get vo
 lunteering insurance: team-nadia.jp\n\nLiabilities:\n- By registering\, yo
 u understand and agree that nadia will not bear responsibility for any dam
 age or injury that may occur during transportation\, as well as during vol
 unteering work.\n\nEquipment:\n- Follow instructions on our blog about wha
 t to wear and what equipment to bring: team-nadia.jp\n- Do not forget to b
 ring enough water or sports drinks on working site!\n\nCancellation policy
 :\n- Please understand that we are charged in full for bus cancellation an
 d that nadia doesn’t have the means to cover these costs. We will of cou
 rse strive to lower these costs as much as possible by looking for replace
 ment applicants. However\, we ask you to agree on the following cancellati
 on conditions:\n* Transportation: 100% transportation fee will be charged 
 for cancellation occurring less than 5 days before departure\n\nPersonal i
 nformation policy:\n- Your personal information will stay confidential and
  will be used only for coordination purposes.\n\nAge of participants\n- Pa
 rticipants must be 20 years old and up\n* 18 to 19 years old need parental
  signature\n* 15 to 17 years old need to be accompanied with parents\n* 0 
 to 14 years old = not allowed to participate (this time allowed for joinin
 g the kids festival)\n\nThank you in advance for your precious help and en
 ergy!\n\nnadia Team\n\n日本語版
LOCATION:Bus meeting point\, Shinjuku Subaru building 1-7-2\, Nishi-Shinjuk
 u\, Shinjuku-ku\, 160-0023\, Tokyo\, Japan
GEO:35.69141489717116;139.6979580013275
X-APPLE-STRUCTURED-LOCATION;VALUE=URI;X-ADDRESS=Shinjuku Subaru building 1-
 7-2\, Nishi-Shinjuku\, Shinjuku-ku\, 160-0023\, Tokyo\, Japan;X-APPLE-RADI
 US=100;X-TITLE=Bus meeting point:geo:35.69141489717116,139.6979580013275
END:VEVENT
END:VCALENDAR