BEGIN:VCALENDAR
VERSION:2.0
PRODID:-//wp-events-plugin.com//7.2.3.1//EN
BEGIN:VEVENT
UID:4@team-nadia.jp
DTSTART:20130523T090000Z
DTEND:20130523T143000Z
DTSTAMP:20130213T115234Z
URL:https://team-nadia.jp/events/beers-for-tohoku-may-2013/
SUMMARY:Beers for Tohoku May 2013
DESCRIPTION:Come over to Hobgoblin in Roppongi to support Tohoku.
LOCATION:Hobgoblin Roppongi\, 1F\, Aoba Roppongi Building\, 3-16-33\, Roppo
 ngi\, Minato-ku\, 106-0032\, Tokyo\, Japan
GEO:35.66168461546126;139.73674141271977
X-APPLE-STRUCTURED-LOCATION;VALUE=URI;X-ADDRESS=1F\, Aoba Roppongi Building
 \, 3-16-33\, Roppongi\, Minato-ku\, 106-0032\, Tokyo\, Japan;X-APPLE-RADIU
 S=100;X-TITLE=Hobgoblin Roppongi:geo:35.66168461546126,139.73674141271977
END:VEVENT
END:VCALENDAR